BEGIN:VCALENDAR
VERSION:2.0
PRODID:-//CartelGryon - ECPv6.14.0//NONSGML v1.0//EN
CALSCALE:GREGORIAN
METHOD:PUBLISH
X-WR-CALNAME:CartelGryon
X-ORIGINAL-URL:https://cartelgryon.ch
X-WR-CALDESC:Évènements pour CartelGryon
REFRESH-INTERVAL;VALUE=DURATION:PT1H
X-Robots-Tag:noindex
X-PUBLISHED-TTL:PT1H
BEGIN:VTIMEZONE
TZID:Europe/Zurich
BEGIN:DAYLIGHT
TZOFFSETFROM:+0100
TZOFFSETTO:+0200
TZNAME:CEST
DTSTART:20260329T010000
END:DAYLIGHT
BEGIN:STANDARD
TZOFFSETFROM:+0200
TZOFFSETTO:+0100
TZNAME:CET
DTSTART:20261025T010000
END:STANDARD
END:VTIMEZONE
BEGIN:VEVENT
DTSTART;VALUE=DATE:20260420
DTEND;VALUE=DATE:20260421
DTSTAMP:20260420T155252
CREATED:20260420T123327Z
LAST-MODIFIED:20260420T123327Z
UID:29552-1776643200-1776729599@cartelgryon.ch
SUMMARY:Tribute Fest
DESCRIPTION:
URL:https://cartelgryon.ch/evenement/tribute-fest/
LOCATION:Barboleuse
CATEGORIES:Concert,Rassemblement
END:VEVENT
END:VCALENDAR